BEGIN:VCALENDAR
VERSION:2.0
PRODID:-//wp-events-plugin.com//7.2.3.1//EN
BEGIN:VEVENT
UID:97@iabc.bc.ca
DTSTART:20160614T170000Z
DTEND:20160614T203000Z
DTSTAMP:20160613T233655Z
URL:https://iabc.bc.ca/upcoming-events/iabcbc-wave-awards-and-agm/
SUMMARY:IABC/BC Wave Awards and AGM
DESCRIPTION:Do you know someone making waves in the Communications industry
 ? Come celebrate at the IABC/BC Wave Awards & AGM Event .
END:VEVENT
END:VCALENDAR