BEGIN:VCALENDAR
VERSION:2.0
PRODID:-//wp-events-plugin.com//7.2.3.1//EN
BEGIN:VEVENT
UID:379@iabc.bc.ca
DTSTART:20250326T180000Z
DTEND:20250326T193000Z
DTSTAMP:20250305T040623Z
URL:https://iabc.bc.ca/upcoming-events/iconic-strategic-storytelling-a-cas
 e-study-of-taylor-swifts-successful-communications/
SUMMARY:Iconic strategic storytelling: A case study of Taylor Swift's succe
 ssful communications
DESCRIPTION:Join us for an engaging and insightful online workshop that del
 ves into the art of strategic storytelling through the lens of one of the 
 world’s most iconic communicators—Taylor Swift. This workshop will ana
 lyze how Swift’s carefully crafted public persona and masterful use of s
 torytelling have led to her immense success across multiple industries. Wh
 ether you're in marketing\, communications\, or simply fascinated by the i
 ntersection of culture and strategy\, this event offers valuable lessons o
 n how to harness storytelling for influence\, brand growth and emotional c
 onnection.\n\nWhat to expect\n\n 	In-depth case study: Explore key moments
  in Taylor Swift’s career\, from her early days as a country artist to h
 er transformation into a global pop phenomenon. Understand how Swift has b
 uilt a narrative around her music\, personal life\, and public image that 
 resonates deeply with fans and the media.\n 	Strategic communications: Lea
 rn how Taylor Swift’s storytelling tactics are a masterclass in personal
  branding\, public relations\, and marketing. See how she’s turned adver
 sity into opportunities and used strategic messaging to connect with diver
 se audiences.\n 	Storytelling techniques: Gain actionable insights on how 
 to craft your own compelling narratives. Understand the role of authentici
 ty\, emotional resonance\, and consistency in building trust and loyalty w
 ith your audience.\n 	Interactive discussions: Engage with fellow particip
 ants through live discussions and Q&amp\;A sessions. Share your thoughts\,
  ask questions\, and uncover new perspectives on storytelling in the moder
 n media landscape.\n\nWho should attend\n\n 	Communication professionals l
 ooking to refine their storytelling techniques.\n 	Brand managers and infl
 uencers who want to learn how to build a compelling public image.\n 	Fans 
 of Taylor Swift interested in understanding the strategic communications b
 ehind her success.\n 	Anyone interested in the power of storytelling to dr
 ive change\, engagement and loyalty.\n\nDate and time: March 26\, 2025 | 6
  to 7:30 p.m.\nTickets: $15 members and students | $20 non-members\nPlatfo
 rm: Zoom\nRegister at Eventbrite  
ATTACH;FMTTYPE=image/jpeg:https://iabc.bc.ca/wp-content/uploads/2025/03/We
 bsite-Banner-PD-Taylor-Swift-600-x-300-px-e1741118643251.png
END:VEVENT
END:VCALENDAR