BEGIN:VCALENDAR
VERSION:2.0
PRODID:-//wp-events-plugin.com//7.2.3.1//EN
BEGIN:VEVENT
UID:235@iabc.bc.ca
DTSTART:20201027T100000Z
DTEND:20201027T113000Z
DTSTAMP:20220112T025956Z
URL:https://iabc.bc.ca/upcoming-events/improve-employee-engagement-through
 -virtual-events-webinar/
SUMMARY:Improve Employee Engagement Through Virtual Events Webinar
DESCRIPTION:Presented by Jason Singh\, Nicole Vendetti and Keith Baker as a
  part of A Virtual Communication Master Class\n\nThe need to build commun
 ity within the workplace is more important now than ever before – but bu
 ilding community virtually is tough. We’re used to bringing people toget
 her\, sharing  content\, building camaraderie and getting to know each ot
 her – but with physical gatherings unlikely to occur in the near future\
 , how do we pivot to running engaging internal events in virtual environme
 nts? Three session takeaways to expect are:\n\n 	Learning how Facebook piv
 oted to running a global internal employee event virtually\n 	Understandin
 g best practices and what to avoid to keep your people engaged\n 	Walking 
 away with an actionable event mind map to help you prepare for your next v
 irtual employee event.\n\nThis Virtual Communication Master Class is spons
 ored by:\n\n\n\nDate: 27 October 2020\nTime: 12–1:30 p.m. CST / 10–11
 :30 a.m. PST\nOpen to all communications professionals
END:VEVENT
END:VCALENDAR