BEGIN:VCALENDAR
VERSION:2.0
PRODID:-//wp-events-plugin.com//7.2.3.1//EN
BEGIN:VEVENT
UID:107@iabc.bc.ca
DTSTART:20161005T173000Z
DTEND:20161005T190000Z
DTSTAMP:20210401T112554Z
URL:https://iabc.bc.ca/upcoming-events/independent-communicators-sig-meeti
 ng-managing-change-at-client-organizations/
SUMMARY:Independent Communicators SIG Meeting: Managing Change at Client Or
 ganizations
DESCRIPTION:Share and learn tips to anticipate and cope with the changes th
 at often come up in the lifetime of your project\, from new staff contacts
  to reporting or budget requirements.
END:VEVENT
END:VCALENDAR