BEGIN:VCALENDAR
VERSION:2.0
PRODID:-//wp-events-plugin.com//7.2.3.1//EN
BEGIN:VEVENT
UID:186@iabc.bc.ca
DTSTART;TZID=America/Vancouver:20181025T180000
DTEND;TZID=America/Vancouver:20181025T193000
DTSTAMP:20181022T222805Z
URL:https://iabc.bc.ca/upcoming-events/independent-contractors-sig-an-intr
 oduction-and-information-gathering/
SUMMARY:Independent Contractors SIG: An introduction and information gather
 ing
DESCRIPTION:Join other independent communicators for a meet-and-greet brain
 storming session\n\nAre there experiences\, information\, challenges or ar
 eas of interest you’d like to explore? Come and share your input with th
 e group as we look ahead to planning meetings that engage members for the 
 upcoming year.\n\nAbout this SIG:\nThe IABC/BC Independent Communicators S
 pecial Interest Group (SIG) hosts opportunities for local communicators wh
 o have their own consultancy to share ideas\, opportunities and resources 
 in a friendly\, casual environment.\n\nSince independent communicators typ
 ically work alone and wear many hats\, sharing and engaging through discus
 sion\, feedback\, and the group’s collective expertise can be especially
  energizing and productive.\n\nRegistration Fees\n\nMembers: FREE\nNon-Mem
 bers: $20\n\nCoffee\, tea\, light snacks available\n\nAll refund requests 
 must be made 48 hours prior to the event date.
END:VEVENT
BEGIN:VTIMEZONE
TZID:America/Vancouver
X-LIC-LOCATION:America/Vancouver
BEGIN:DAYLIGHT
DTSTART:20180311T030000
TZOFFSETFROM:-0800
TZOFFSETTO:-0700
TZNAME:PDT
END:DAYLIGHT
END:VTIMEZONE
END:VCALENDAR