BEGIN:VCALENDAR
VERSION:2.0
PRODID:-//wp-events-plugin.com//7.2.3.1//EN
BEGIN:VEVENT
UID:262@iabc.bc.ca
DTSTART:20210412T173000Z
DTEND:20210412T190000Z
DTSTAMP:20220112T025931Z
URL:https://iabc.bc.ca/upcoming-events/internal-communications-sig-crisis-
 communications-from-covid-and-beyond/
SUMMARY:Internal Communications SIG: Crisis communications\, from COVID and
  beyond
DESCRIPTION:\n\n\nJoin IABC/BC’s Internal Communications Special Interest
  Group (SIG) virtual session\, with a focus on crisis communication strate
 gies.\n\n\n\n\n\n\nAbout this Event\n\n\n\nCrises come in all shapes and s
 izes\, and one thing that is common across them all is the crucial role of
  communicators in responding to them. With an extended world-wide crisis u
 nder our collective belt\, we all have some experience in crisis communica
 tions\, whether as a recipient or sender. In this session\, let's discuss 
 our crisis communication experiences\, what we’ve learned from them and 
 how we may do things differently in the future.\n\nFacilitated by Alfie Pe
 nfold\, Communications Specialist\, IC Thrive\n\nEngaging employees in the
  tech\, sports\, media\, finance and education spaces over the last 10 yea
 rs\, Alfie Penfold employs an energetic and fun approach to internal commu
 nications. With a focus on building meaningful relationships\, putting emp
 loyees first and helping to connect team members\, he seeks to deliver bus
 iness value through effective and strategic communications.\n\nHaving move
 d to Vancouver in 2019\, he is keen to grow his network within the communi
 cations community.\nEvent Details\n\n 	Date: April 12\, 2021\n 	Time: 5:30
  PM - 7:00 PM Pacific Standard Time\n 	Format: A small group conversation-
 style session hosted virtually on Zoom.\n\nPlease note that the Zoom link 
 will be emailed to you the day before the event.\n\nDue to the intimate co
 nversation-style format of these sessions\, space is limited\, so sign up 
 soon!\nRegistration\n\n 	Members: Free\n 	Non-Members: $10\n 	Student Non-
 Members: $5\n\nIf you have accessibility requests or other questions about
  this SIG\, please email sigs (at) iabc.bc.ca.\n\nSpecial Interest Groups 
 (SIGs) are small\, informal gatherings currently held online via Zoom\, wh
 ere like-minded communicators meet to connect and exchange knowledge aroun
 d relevant\, emerging topics within the communications community. There is
  no charge for IABC/BC members\, and a nominal fee for non-members.\n\n\n\
 n\n
END:VEVENT
END:VCALENDAR