BEGIN:VCALENDAR
VERSION:2.0
PRODID:-//wp-events-plugin.com//7.2.3.1//EN
BEGIN:VEVENT
UID:122@iabc.bc.ca
DTSTART:20170201T180000Z
DTEND:20170201T190000Z
DTSTAMP:20210507T140615Z
URL:https://iabc.bc.ca/upcoming-events/internal-communications-sig-employe
 e-engagement/
SUMMARY:Internal Communications SIG – Employee Engagement
DESCRIPTION:Join in on an open discussion on the role of internal communica
 tions in driving and measuring employee engagement.
END:VEVENT
END:VCALENDAR