BEGIN:VCALENDAR
VERSION:2.0
PRODID:-//wp-events-plugin.com//7.2.3.1//EN
BEGIN:VEVENT
UID:252@iabc.bc.ca
DTSTART:20210308T180000Z
DTEND:20210308T193000Z
DTSTAMP:20220112T025944Z
URL:https://iabc.bc.ca/upcoming-events/internal-communications-sig-focusin
 g-on-equity-diversity-and-inclusion/
SUMMARY:Internal Communications SIG: Focusing on Equity\, Diversity and Inc
 lusion
DESCRIPTION:\n\n\nJoin IABC/BC’s Internal Communications Special Interest
  Group (SIG) virtual session\, with a focus on equity\, diversity and incl
 usion.\n\n\n\n\n\n\n\n\n2020 was a dramatic year by anyone’s standards\,
  and it definitely put a spotlight on internal communications in a way mos
 t of us have never experienced before.\n\nEquity\, diversity and inclusion
  has (or should have) always been on the radar when we're planning every f
 acet of our communications\, and 2020 has dialed up both awareness and exp
 ectations in the workplace and beyond. In doing so\, it has also given us 
 a wealth of new perspectives and resources that we can implement into our 
 communications strategies from the ground up.\n\nJoin us at our next Inter
 nal Communications SIG to discuss how you’ve been embedding ED&amp\;I co
 nsideration into your workday\, share resources you’ve found helpful\, a
 nd ask questions of your peers who are navigating the same journey.\nEvent
  details\n\n 	Date: March 8\, 2021\n 	Time: 6:00 PM - 7:30 PM Pacific Stan
 dard Time\n 	Format: A small group conversation-style session hosted virtu
 ally on Zoom.\n\nPlease note that the Zoom link will be emailed to you the
  day before the event.\n\nDue to the intimate conversation-style format of
  these sessions\, space is limited\, so sign up soon!\nRegistration\n\n 	M
 embers: Free\n 	Non-Members: $10\n 	Student Non-Members: $5\n\nIf you have
  any questions\, please email sigs (at) iabc.bc.ca.\n\nSpecial Interest Gr
 oups (SIGs) are small\, informal gatherings currently held online via Zoom
 \, where like-minded communicators meet to connect and exchange knowledge 
 around relevant\, emerging topics within the communications community. The
 re is no charge for IABC/BC members\, and a nominal fee for non-members.\n
 \n\n\n\n
END:VEVENT
END:VCALENDAR