BEGIN:VCALENDAR
VERSION:2.0
PRODID:-//wp-events-plugin.com//7.2.3.1//EN
BEGIN:VEVENT
UID:243@iabc.bc.ca
DTSTART:20201207T180000Z
DTEND:20201207T193000Z
DTSTAMP:20220112T025945Z
URL:https://iabc.bc.ca/upcoming-events/internal-communications-sig-goodbye
 -2020/
SUMMARY:Internal Communications SIG: Goodbye 2020!
DESCRIPTION:Join us for an end-of-year Internal Comms SIG as we close the d
 oor on 2020 and say hello to 2021.\n&nbsp\;\nAbout this Event\n\n\n\nGoodb
 ye 2020!\n\nAs years go\, this one certainly was… unforgettable (or not)
 ! Whether you have tales of grit\, survival\, and even victory\, or have b
 arely crawled through with your sense of humour intact\, there’s one thi
 ng we know – we got through it. And we should celebrate!\n\nThere is lit
 tle doubt that now is the time for internal communication professionals\, 
 which means staying connected and supported is more important than ever. J
 oin us as we share stories of success and learning\, expectations for 2021
 \, and how we can stick together at our virtual “Goodbye 2020!” Intern
 al Communications SIG event.\nEvent details\n\n 	Date: December 7\, 2020\n
  	Time: 6:00 pm - 7:30 pm Pacific Standard Time\n 	Format: A small group c
 onversation-style session hosted virtually.\n\nAll refund requests must be
  made 48 hours prior to the event date.\n\nDue to the intimate conversatio
 n-style format of these sessions\, space is limited\, so sign up soon!\nRe
 gistration\n\n 	Members: Free\n 	Non-Members: $10\n 	Student Members: Free
 \n 	Student Non-Members: $5\n\nPlease note that the Zoom link will be emai
 led to you the day before the event. If you have any questions\, please em
 ail sigs@iabc.bc.ca.\n\n&nbsp\;\n\nSpecial Interest Groups (SIGs) are smal
 l\, informal gatherings currently held online via Zoom\, where like-minded
  communicators meet to connect and exchange knowledge around relevant\, em
 erging topics within the communications community. There is no charge for 
 IABC/BC members\, and a nominal fee for non-members.\n\n\n
END:VEVENT
END:VCALENDAR