BEGIN:VCALENDAR
VERSION:2.0
PRODID:-//wp-events-plugin.com//7.2.3.1//EN
BEGIN:VEVENT
UID:261@iabc.bc.ca
DTSTART:20210422T100000Z
DTEND:20210422T110000Z
DTSTAMP:20220112T025931Z
URL:https://iabc.bc.ca/upcoming-events/introduction-to-the-modern-intranet
 /
SUMMARY:Introduction to the Modern Intranet
DESCRIPTION:According to a Gartner CFO survey\, 74% of companies plan to pe
 rmanently shift employees to remote work after the COVID-19 crisis ends. I
 nternal communicators must continue to find new and novel ways to keep emp
 loyees engaged and informed. The number of companies that are moving to a 
 modern intranet to enable a distributed workforce is increasing as the eco
 nomy begins to stabilize.\n\nJoin us for this webinar and see how a modern
  intranet:\n\n 	Centralizes critical top-down internal communications.\n 	
 Shapes culture and drive employee engagement with an engaging and\neasy-to
 -use interface.\n 	Creates a virtual watercooler to unify employees.\n 	Ma
 intains culture in a remote workplace.\n\nAbout the Presenter\nEmily Mooza
  is a UMASS Amherst alumni\, who started off her sales career in the wine 
 industry previous to computer software. In addition to being passionate ab
 out improving employee engagement\, she is excited to continue to help con
 nect companies with Simpplr.\n\n&nbsp\;\n\nThis webinar is sponsored by:\n
 \n\n\nDate: 22 April 2021\nTime: 12 - 1 p.m. CST (10 - 11 a.m. PST)\nOpen
  to all communication professionals
END:VEVENT
END:VCALENDAR