BEGIN:VCALENDAR
VERSION:2.0
PRODID:-//wp-events-plugin.com//7.2.3.1//EN
BEGIN:VEVENT
UID:117@iabc.bc.ca
DTSTART:20170119T173000Z
DTEND:20170119T190000Z
DTSTAMP:20210507T140540Z
URL:https://iabc.bc.ca/upcoming-events/jobs-to-be-done-bundling-and-unbund
 ling-communications-consulting-services/
SUMMARY:Jobs to be Done: Bundling and Unbundling Communications Consulting 
 Services
DESCRIPTION:Clients hire consultants to provide a service or “job” to 
 be done …but once hired\, the role often evolves or involves other serv
 ices. How can consultants bundle or unbundle services to bring more predi
 ctability and value to the project?\n\nJoin chair Natasha Chetty for the 
 second Independent Communicators SIG of the year to discuss this topic wit
 h fellow communications professionals who work as self-employed freelan
 cers or in a consulting role.\n\nSIGs are free for IABC members.\nNon-mem
 bers: $20\nRegistrants are responsible for purchasing their own food and
  beverage.
END:VEVENT
END:VCALENDAR