BEGIN:VCALENDAR
VERSION:2.0
PRODID:-//wp-events-plugin.com//7.2.3.1//EN
BEGIN:VEVENT
UID:196@iabc.bc.ca
DTSTART;TZID=America/Vancouver:20190221T120000
DTEND;TZID=America/Vancouver:20190221T140000
DTSTAMP:20210507T140858Z
URL:https://iabc.bc.ca/upcoming-events/leaders-lunch-with-brad-whitworth-n
 avigating-leadership-in-changing-times/
SUMMARY:Leaders’ Lunch with Brad Whitworth: Navigating leadership in chan
 ging times
DESCRIPTION:IABC/BC warmly welcomes Brad Whitworth\, ABC\, SCMP\, IABC Fell
 ow\, for an exclusive daytime event.\n\nHave you been through a digital tr
 ansformation? Preparing for one? Looking for ways to future proof yourself
  - and your team? Or just wondering what it really means to be a leader in
  the digital age?\n\nTopics like demonstrating value\, tracking trends\, a
 ccelerated learning\, taking risks\, talent building and agility (or lack 
 of) are just some of the elements of leadership in a future thinking busin
 ess world. At this intimate lunch\, Brad Whitworth\, ABC\, SCMP\, IABC Fel
 low will lead an interactive discussion on being a leader in changing time
 s.\n\nCome prepared with your questions\, musings\, and examples of person
 al experience.\n\n&nbsp\;\n\nRegistration Fees\n\nTickets include a two-co
 urse fixed meal with a choice of either a glass of wine or desert. You wil
 l be asked to make your selections when you register.\n\nPlease also speci
 fy any additional dietary restrictions during the sign-up process.\nRegist
 er Now\nTickets available until February 17. .\n\nMembers: $60\n\n*This lu
 nch is tailored for senior\, and mid-level members who are in leadership r
 oles. See who else is going.\n\n*Joint event offer - Register for this ev
 ent and you will be sent a special discount code for 20% off Brad’s even
 ing event ‘Integrating innovation into communications: The hottest trend
 s from Silicon Valley’\n\n&nbsp\;\n\nAbout Brad\n\n\n\nAs a global leade
 r\, former broadcaster and communications expert\, Brad Whitworth\, ABC\, 
 SCMP\, IABC Fellow is a highly sought-after speaker on business communicat
 ion.\n\nHe has led communications teams small and large\, local and global
 \, during his career. He has worked in employee communications\, media rel
 ations\, financial communications\, exec comms\, marketing and community r
 elations. He and his teams at HP\, Cisco\, AAA and PeopleSoft have won six
  IABC Gold Quills and numerous local and regional communication awards.\n\
 nIn addition\, Brad has also taken on leadership roles in non-profits\, to
 o. He’s a past-president of two IABC chapters\, past chairman of IABC (y
 eah\, the whole association!)\, part president of a Bay Area grief-therapy
  organization\, and currently serves on the board of Slow Food Russian Riv
 er.\n\n&nbsp\;\n\nNeed help registering?\n\nCall the IABC/BC registration 
 line at 604-878-1320 or email our admin team at: iabcbc@vancouveroffice.co
 m. Please note: Due to the intimate nature of this event\, we are unable t
 o accommodate short-notice cancellations. Requests for refunds must be sub
 mitted before February 15.
END:VEVENT
BEGIN:VTIMEZONE
TZID:America/Vancouver
X-LIC-LOCATION:America/Vancouver
BEGIN:STANDARD
DTSTART:20181104T010000
TZOFFSETFROM:-0700
TZOFFSETTO:-0800
TZNAME:PST
END:STANDARD
END:VTIMEZONE
END:VCALENDAR