BEGIN:VCALENDAR
VERSION:2.0
PRODID:-//wp-events-plugin.com//7.2.3.1//EN
BEGIN:VEVENT
UID:182@iabc.bc.ca
DTSTART;TZID=America/Vancouver:20181101T120000
DTEND;TZID=America/Vancouver:20181101T133000
DTSTAMP:20210507T140843Z
URL:https://iabc.bc.ca/upcoming-events/leaders-lunch-with-kellie-garrett-t
 alking-business-strategy-culture-and-leadership-behaviours/
SUMMARY:Leaders’ Lunch with Kellie Garrett: Talking business strategy\, c
 ulture\, and leadership behaviours
DESCRIPTION:IABC/BC warmly welcomes Kellie Garrett\, PCC\, ICD.D\, CDWF\, I
 ABC Fellow\, for a daytime event handcrafted exclusively for senior commun
 icators.\n\nJoin a handful of your industry colleagues for lunch as leader
 ship expert Kellie Garrett guest hosts and facilitates discussion on busin
 ess strategy\, culture\, and leadership behaviours.\n\nThis casual\, intim
 ate atmosphere will surely spark a lively discussion. Kellie will share be
 st practices and practical examples on how to define\, build\, and embed a
  great culture in your organization.\n\nTickets include a prix fixe lunch 
 and coffee or tea. Please specify any dietary restrictions during the sign
 -up process.\n\nTickets available until October 30. \n\nMembers: $50\nNon-
 members: $60\nRegister Now *\n* Please note this event is sold out and now
  waiting list only.\n\n&nbsp\;\n\nAbout Kellie Garrett\, PCC\, ICD.D\, CDW
 F\, IABC Fellow\n\nKellie Garrett\, PCC\, ICD.D\, CDWF\, IABC Fellow\, is 
 one of Canada's 100 Most Powerful Women and Top 25 Influential Women. She 
 is a speaker\, executive coach\, life coach\, board director and consultan
 t on leadership\, team dynamics and conflict\, personal brand and business
  strategy. Kellie is also a Certified Daring Way Facilitator (CDWF)\, qual
 ified to teach the life-changing work of Brené Brown. Learn more about Ke
 llie.\n\nAbout the Leaders’ Lunch Series\n\nThis lunch is tailored for t
 hose at the Strategic Communication Management Professional (SCMP) certifi
 cation level: Highly-skilled business communicators practiced in providing
  strategic communication advice and counseling to an organization’s lead
 ership.\n\nNeed help registering?\n\nCall the IABC/BC registration line at
  604-878-1320 or email our admin team at: iabcbc@vancouveroffice.com. Plea
 se note: Due to the intimate nature of this event\, we are unable to accom
 modate short-notice cancellations. Requests for refunds must be submitted 
 before October 25.\n\n
END:VEVENT
BEGIN:VTIMEZONE
TZID:America/Vancouver
X-LIC-LOCATION:America/Vancouver
BEGIN:DAYLIGHT
DTSTART:20180311T030000
TZOFFSETFROM:-0800
TZOFFSETTO:-0700
TZNAME:PDT
END:DAYLIGHT
END:VTIMEZONE
END:VCALENDAR