BEGIN:VCALENDAR
VERSION:2.0
PRODID:-//wp-events-plugin.com//7.2.3.1//EN
BEGIN:VEVENT
UID:239@iabc.bc.ca
DTSTART:20201124T180000Z
DTEND:20201124T193000Z
DTSTAMP:20220112T025945Z
URL:https://iabc.bc.ca/upcoming-events/lets-talk-about-equity-diversity-an
 d-inclusion-iabc-bc-sig-session/
SUMMARY:Let's Talk About Equity\, Diversity and Inclusion - IABC/BC SIG Ses
 sion
DESCRIPTION:\n\n\nYou're invited to join the conversation in the first inst
 allment of our virtual IABC/BC SIG series on Equity\, Diversity and Inclus
 ion.\n\n\n\n\n\nAbout this event\n\n\n\n2020 has been a time of multiple c
 rises.\n\nWhile COVID-19 has impacted us all\, research shows that the pan
 demic is impacting marginalized communities at disproportionately higher l
 evels. It has also brought to the forefront other crises involving systemi
 c racism that have been present for much longer\, such as Black Lives Matt
 er\, Indigenous Rights and Reconciliation\, xenophobia against immigrants 
 and people of Asian descent\, and ever present micro- and macro-aggression
 s against BIPOC individuals and communities. There have also been disparat
 e impacts on members of the LGBTQIA2+ communities and persons with disabil
 ities.\n\nIn the face of all these challenges and important conversations\
 , how can we better support EDI movements within IABC and the communicatio
 ns field as a whole? As professional communicators\, how can we ensure tha
 t we are supporting and empowering a diversity of perspectives and voices 
 through our work and from within our organisations?\n\nWe hope you can joi
 n us for our first EDI SIG session\, where our goal is to provide a safe a
 nd trusting space to share our experiences and learn from one another\, to
  identify opportunities for actionable change as a collective\, and to con
 ceptualize follow-up EDI SIG sessions. This initial conversation will be b
 road and open-ended in regards to the topics that we discuss so we can ide
 ntify the issues that are important to us as a group. We will also be host
 ing a survey to gather more insight and feedback from our membership. Our 
 aim is to host a series of these conversations to delve deeper to address 
 EDI issues within our institutions and move beyond good intentions towards
  tangible initiatives\, so that we can transform our culture into one that
  is truly more equitable\, diverse\, and inclusive for everyone.\n\nAll ar
 e welcome and encouraged to participate.\n\nThank you for joining the conv
 ersation and coming on this journey with us.\nEvent details\n\n 	Date: Nov
 ember 24\, 2020\n 	Time: 6:00 pm - 7:30 pm Pacific Standard Time\n 	Format
 : A small group conversation-style session hosted virtually.\n\nDue to the
  intimate conversation-style format of these sessions\, space is limited\,
  so sign up soon!\nRegistration\n\n 	Members: Free\n 	Non-Members: $10\n 	
 Student Members: Free\n 	Student Non-Members: $5\n\nPlease note that the Z
 oom link will be emailed to you the day before the event. If you have any 
 questions\, please email sigs(at)iabc.bc.ca.\n\n&nbsp\;\n\nSpecial Interes
 t Groups (SIGs) are small\, informal gatherings currently held online via 
 Zoom\, where like-minded communicators meet to connect and exchange knowle
 dge around relevant\, emerging topics within the communications community.
  There is no charge for IABC/BC members\, and a nominal fee for non-member
 s.\n\n\n\n\n
END:VEVENT
END:VCALENDAR