BEGIN:VCALENDAR
VERSION:2.0
PRODID:-//wp-events-plugin.com//7.2.3.1//EN
BEGIN:VEVENT
UID:102@iabc.bc.ca
DTSTART:20160914T110000Z
DTEND:20160914T120000Z
DTSTAMP:20160907T072852Z
URL:https://iabc.bc.ca/upcoming-events/make-or-break-the-first-90-days-in-
 your-new-job-or-leading-a-new-team/
SUMMARY:Make or break – the first 90 days in your new job or leading a ne
 w team
DESCRIPTION:This webinar\, one of the Best in Show series\, will provide yo
 u with the skills and knowledge you need to be successful in the first 90 
 days. 
END:VEVENT
END:VCALENDAR