BEGIN:VCALENDAR
VERSION:2.0
PRODID:-//wp-events-plugin.com//7.2.3.1//EN
BEGIN:VEVENT
UID:114@iabc.bc.ca
DTSTART:20161124T085000Z
DTEND:20161124T130000Z
DTSTAMP:20210507T140524Z
URL:https://iabc.bc.ca/upcoming-events/media-crawl-fall-2016/
SUMMARY:Media Crawl - Fall 2016
DESCRIPTION:Have you ever wanted to go behind the scenes in four of Metro V
 ancouver’s most influential media outlets? On IABC’s Media Tour you ca
 n learn what challenges are facing media and how communications profession
 als can help —or hinder— their work.\n
END:VEVENT
END:VCALENDAR