BEGIN:VCALENDAR
VERSION:2.0
PRODID:-//wp-events-plugin.com//7.2.3.1//EN
BEGIN:VEVENT
UID:189@iabc.bc.ca
DTSTART;TZID=America/Vancouver:20181213T173000
DTEND;TZID=America/Vancouver:20181213T203000
DTSTAMP:20210507T140854Z
URL:https://iabc.bc.ca/upcoming-events/mingle-all-the-way-the-iabc-bc-and-
 cprs-holiday-social/
SUMMARY:Mingle All the Way: The IABC/BC and CPRS Holiday Social
DESCRIPTION:Warm up this winter with Mingle All the Way\, the IABC/BC and C
 PRS holiday social!\n\nMix\, mingle\, and make merry with colleagues old a
 nd new from two of B.C.’s leading communications and public relations or
 ganizations. Join us for a drink\, appetizers\, and a holly-jolly good tim
 e.\n\nRegular pricing\, November 26 through December 11: \n\nMembers: $40\
 nNon-members: $55\nStudent members: $20\nStudent non-members: $25\n\nMembe
 rs of both organizations need only register once via the organization of t
 heir choice.\n\nNeed help registering? Call the IABC/BC registration line 
 at 604-878-1320 or email our admin team at: iabcbc@vancouveroffice.com\n\n
 \n\n
END:VEVENT
BEGIN:VTIMEZONE
TZID:America/Vancouver
X-LIC-LOCATION:America/Vancouver
BEGIN:STANDARD
DTSTART:20181104T010000
TZOFFSETFROM:-0700
TZOFFSETTO:-0800
TZNAME:PST
END:STANDARD
END:VTIMEZONE
END:VCALENDAR