BEGIN:VCALENDAR
VERSION:2.0
PRODID:-//wp-events-plugin.com//7.2.3.1//EN
BEGIN:VEVENT
UID:352@iabc.bc.ca
DTSTART:20240201T080000Z
DTEND:20240201T084500Z
DTSTAMP:20240311T081744Z
URL:https://iabc.bc.ca/upcoming-events/monthly-comms-coffee-chat-3/
SUMMARY:Monthly Comms Coffee Chat
DESCRIPTION:Join CPRS and IABC/BC on the first Thursday of each month for a
  morning mingle with comms pros in Vancouver. Each month we’ll have a ne
 w comms-related conversation prompt to spark new ideas\, whether it’s ho
 w PR pros are using AI or the latest podcasts\, we’ll suggest a topic to
  help grease the networking wheels for anyone feeling a bit rusty. Please 
 note that while registration for this event is free\, attendees will be re
 sponsible for purchasing their own drinks or snacks at the coffee shop.\n\
 nRegistration closes two days before the event and there are only 20 spots
  available. So sign up today!\n\nRegister\n\n
END:VEVENT
END:VCALENDAR