BEGIN:VCALENDAR
VERSION:2.0
PRODID:-//wp-events-plugin.com//7.2.3.1//EN
BEGIN:VEVENT
UID:353@iabc.bc.ca
DTSTART:20240307T080000Z
DTEND:20240307T084500Z
DTSTAMP:20240311T081750Z
URL:https://iabc.bc.ca/upcoming-events/monthly-comms-coffee-chat-4/
SUMMARY:Monthly Comms Coffee Chat
DESCRIPTION:\n\nJoin CPRS and IABC/BC on the first Thursday of each month f
 or a morning mingle with comms pros in Vancouver. Each month we’ll have 
 a new comms-related conversation prompt to spark new ideas\, whether it’
 s how PR pros are using AI or the latest podcasts\, we’ll suggest a topi
 c to help grease the networking wheels for anyone feeling a bit rusty. Ple
 ase note that while registration for this event is free\, attendees will b
 e responsible for purchasing their own drinks or snacks at the coffee shop
 .\n\nRegistration closes two days before the event and there are only 20 s
 pots available. So sign up today!\n\nRegister
END:VEVENT
END:VCALENDAR