BEGIN:VCALENDAR
VERSION:2.0
PRODID:-//wp-events-plugin.com//7.2.3.1//EN
BEGIN:VEVENT
UID:386@iabc.bc.ca
DTSTART:20250605T080000Z
DTEND:20250605T084500Z
DTSTAMP:20250502T063338Z
URL:https://iabc.bc.ca/upcoming-events/monthly-comms-coffee-chat-7/
SUMMARY:Monthly Comms Coffee Chat
DESCRIPTION:Join us for Coffee and Comms Chats\, first Thursday of every mo
 nth!\n\n&nbsp\;\n\nCo-hosted by Canadian Public Relations Society (CPRS) a
 nd IABC/BC. This is your chance to connect with industry peers\, share ins
 ights\, and discuss the latest trends – all over a cup of coffee.\n\nWhe
 ther you're a seasoned pro or just starting out\, this is the perfect spac
 e to exchange ideas and build connections in a relaxed setting.\n\nGrab yo
 ur ticket today\n\nNext date: Thursday June 6\n\nTime: 8 to 8:45 a.m.\n\nW
 here: Deville Coffee\, 550 Burrard Street\, Vancouver\n\nRegister at Event
 brite
ATTACH;FMTTYPE=image/jpeg:https://iabc.bc.ca/wp-content/uploads/2023/09/mo
 nthly_comms_coffee_chat-e1746138781186.jpg
END:VEVENT
END:VCALENDAR