BEGIN:VCALENDAR
VERSION:2.0
PRODID:-//wp-events-plugin.com//7.2.3.1//EN
BEGIN:VEVENT
UID:98@iabc.bc.ca
DTSTART:20160602T173000Z
DTEND:20160602T184500Z
DTSTAMP:20210507T140411Z
URL:https://iabc.bc.ca/upcoming-events/new-communicators-sig-theme-media-r
 elations/
SUMMARY:New Communicators SIG - Theme: Media Relations
DESCRIPTION:Award winning reporter\, video journalist and storyteller Stu M
 cNish will be discussing: how to get your story to stand out\; how to best
  pitch your story to the media\, and how to navigate an interview while st
 icking to your key messages. 
END:VEVENT
END:VCALENDAR