BEGIN:VCALENDAR
VERSION:2.0
PRODID:-//wp-events-plugin.com//7.2.3.1//EN
BEGIN:VEVENT
UID:254@iabc.bc.ca
DTSTART:20210324T090000Z
DTEND:20210324T100000Z
DTSTAMP:20220112T025944Z
URL:https://iabc.bc.ca/upcoming-events/outbranding-building-a-winning-pers
 onal-brand-in-2021/
SUMMARY:Outbranding: Building a Winning Personal Brand in 2021 from IABC Na
 shville
DESCRIPTION:\n\n\nA strong personal brand should be constantly evolving\, e
 specially given last year's tidal waves. Join us to learn how to refresh y
 ours!\n\n\n\n\n\nAbout this Event\n\n\n\nHow you appear online has become 
 more important than ever--especially in the last year as almost every inte
 raction has been through a video call\, social media engagement\, or some 
 form of digital communication.\n\nThese days\, almost all of how you prese
 nt yourself online relies on a strong\, personal brand that translates jus
 t as well digitally as it does in person--and that's precisely what Ebony 
 R. Lincoln\, MBA will shed valuable light on.\n\nYou'll learn:\n\n 	How to
  properly identify your personal brand\n 	How to build your online presenc
 e - where can we build trust and add value?\n 	How to activate and integra
 te a working strategy that'll stick\n\nAbout the Speaker\nEbony R. Lincoln
 \n\nAs a 20-year industry veteran\, Ebony has developed and nurtured major
  brands like Edward Jones\, State Farm Insurance\, Ameren\, Astellas and C
 hange Healthcare. Now\, she uses her expertise to help individuals develop
  their own personal brand delivering dynamic discussions\, and providing o
 ne-on-one\, tailored branding and communication consult sessions.\n\nShe's
  the winner of several branding\, marketing and communications awards by P
 ublic Relations Student Society of America\, and a multiple award winner i
 n the branding\, marketing and communications category by UM Association o
 f Communicators. She's been awarded Employee of the Quarter by StateFarm I
 nsurance several times and is the recipient of the Star Award and Team Sta
 ts Leaders by Astellas Pharmaceutical Company.\n\n\n\n\n
END:VEVENT
END:VCALENDAR