BEGIN:VCALENDAR
VERSION:2.0
PRODID:-//wp-events-plugin.com//7.2.3.1//EN
BEGIN:VEVENT
UID:100@iabc.bc.ca
DTSTART:20160629T173000Z
DTEND:20160629T193000Z
DTSTAMP:20210507T140506Z
URL:https://iabc.bc.ca/upcoming-events/project-and-time-management-for-con
 sultants/
SUMMARY:Independent Communicators SIG Meeting:  Project and Time Management
  for Consultants
DESCRIPTION:Join fellow independent communicators for a lively discussion a
 bout the best ways to manage time and projects when you’re in a consulti
 ng role.
END:VEVENT
END:VCALENDAR