BEGIN:VCALENDAR
VERSION:2.0
PRODID:-//wp-events-plugin.com//7.2.3.1//EN
BEGIN:VEVENT
UID:346@iabc.bc.ca
DTSTART:20231205T173000Z
DTEND:20231205T183000Z
DTSTAMP:20240311T081706Z
URL:https://iabc.bc.ca/upcoming-events/public-sector-sig-top-5-changes-to-
 social-media-in-2023/
SUMMARY:Public Sector SIG: Top 5 Changes to Social Media in 2023
DESCRIPTION:\n\nAs the year draws to a close\, we're reflecting on all of t
 he changes that have happened in our industry over 2023 — and no area ha
 s seen more changes than social media.\n\nAt this special coffee chat SIGS
 \, we'll talk about the biggest changes in social to be aware of\, includi
 ng everything from what and how we measure\, to what platforms reign supre
 me. Connect with others in public sector communications whether you're new
  to social and finding your footing or a seasoned professional getting a t
 aste for what other organizations are doing. As an added bonus\, we'll als
 o be discussing the best way to frame these changes to your teams and the 
 wider organization as you're rolling out your 2024 social plans!\n\nBring 
 questions\, bring opinions\, and as always bring an open mind as we naviga
 te the ever-changing social media waters together.\n  \n\nRegistration F
 ees\n\n 	Members: Free\n 	Non-Members: $10\n 	Student Members: Free\n 	Stu
 dent Non-Members: $5\n\nDue to the intimate conversation-style format of t
 hese sessions\, space is limited\, so sign up soon! The Zoom link will be 
 shared via email the day before the event.\n  \nIf you have accessibility
  requests or other questions about this SIG\, please email sigs@iabc.bc.ca
 .\n\nAll refund requests must be made 24 hours prior to the event date.\n\
 nSpecial Interest Groups (SIGs) are small informal gatherings\, where like
 -minded communicators meet to connect and exchange knowledge around releva
 nt\, emerging topics within the communications community. There is no char
 ge for IABC/BC members\, and a nominal fee for non-members.\n\nRegister he
 re
END:VEVENT
END:VCALENDAR