BEGIN:VCALENDAR
VERSION:2.0
PRODID:-//wp-events-plugin.com//7.2.3.1//EN
BEGIN:VEVENT
UID:370@iabc.bc.ca
DTSTART:20241012T133000Z
DTEND:20241012T163000Z
DTSTAMP:20241005T071906Z
URL:https://iabc.bc.ca/upcoming-events/puppy-yoga-and-lunch-with-iabc-bc/
SUMMARY:Puppy yoga and lunch with IABC/BC
DESCRIPTION:Join us for a fun and relaxing yoga session with adorable furry
  friends! It’s the perfect chance to unwind with B.C.’s top Marcomms p
 rofessionals and aspiring youths for yoga\, bubbles\, and lunch right afte
 r. \n\nDoes this sound like the perfect Saturday\, or what?  \n\nLocati
 on: Stretch Studio\, 180 E Pender Street\n\nTime: The session starts promp
 tly at 1:30 p.m.  \n\nFee: $45 (including tax)  \n\nLimited slots avai
 lable! Secure yours now.\n\nBring your own yoga mat.  \n\n&nbsp\;\n\nDet
 ails for lunch\n\nVenue: Mila\, 185 Keefer St\, Vancouver\, BC V6B 6L4\n\n
 Time: 3:00 p.m.\n\nShare this with a friend so you can experience the fun 
 together! 
ATTACH;FMTTYPE=image/jpeg:https://iabc.bc.ca/wp-content/uploads/2024/10/Pu
 ppy_yoga-e1728083922315.png
END:VEVENT
END:VCALENDAR