BEGIN:VCALENDAR
VERSION:2.0
PRODID:-//wp-events-plugin.com//7.2.3.1//EN
BEGIN:VEVENT
UID:377@iabc.bc.ca
DTSTART:20250213T173000Z
DTEND:20250213T183000Z
DTSTAMP:20250206T053041Z
URL:https://iabc.bc.ca/upcoming-events/reimagining-marketing-communication
 s-with-ai-driven-strategies/
SUMMARY:Reimagining Marketing Communications with AI-Driven Strategies
DESCRIPTION:Discover how AI is reshaping marketing communications\, from co
 ntent creation to project management\, and gain valuable insights into rea
 l-world applications of these cutting-edge tools. \nDate: February 13\, 20
 25\nTime: 5:30 to 6:30 p.m.
ATTACH;FMTTYPE=image/jpeg:https://iabc.bc.ca/wp-content/uploads/2025/01/Fe
 bruary-2025-SIG-Reimagining-MC-with-AI-1600x900-1-e1737089658221.png
END:VEVENT
END:VCALENDAR