BEGIN:VCALENDAR
VERSION:2.0
PRODID:-//wp-events-plugin.com//7.2.3.1//EN
BEGIN:VEVENT
UID:367@iabc.bc.ca
DTSTART:20241205T170000Z
DTEND:20241205T200000Z
DTSTAMP:20241021T063716Z
URL:https://iabc.bc.ca/upcoming-events/save-the-date-iabc-bc-holiday-soire
 e-with-cprs/
SUMMARY:Join us for the IABC/BC Holiday Soiree with CPRS
DESCRIPTION:This holiday season\, step into your Sparkly Era with IABC.BC x
  CPRS! &#x2728\;  \n\nWe’re going all out with a sparkly\, shimmery\, 
 and flashy twist at the Holiday Eras Holiday Party. Dress in your most daz
 zling\, glittery attire and join us for a night filled with music\, fun\, 
 networking and unforgettable holiday vibes. &#x1f31f\;&#x1f3b6\;\n\nEarly 
 Bird tickets are now available! Take advantage of these special prices whi
 le they last and secure your spot today.\n\nTime: 5 to 8 p.m.\n\nDate: Thu
 rsday\, December 5\, 2024\, \n\nLocation: Ventura Room\, 695 Cambie St\, 
 Vancouver\, BC\, V6B 0K9\n\nGet your ticket at Eventbrite.   \n\n\nDon
 ’t miss out—grab your tickets now for a night of sparkle and magic.\n\
 nGet ready to shine\, shimmer and celebrate your Holiday Era in true style
 ! Tag your friends and let’s make this night one for the books. &#x2728\
 ;&#x1f389\;\n#HolidayEras #SparklyHoliday #IABCBC #FestiveShine #ShimmerAn
 dCelebrate
ATTACH;FMTTYPE=image/jpeg:https://iabc.bc.ca/wp-content/uploads/2024/09/Ev
 entbrite-Holiday-ERAS-e1729463739931.png
END:VEVENT
END:VCALENDAR