BEGIN:VCALENDAR
VERSION:2.0
PRODID:-//wp-events-plugin.com//7.2.3.1//EN
BEGIN:VEVENT
UID:244@iabc.bc.ca
DTSTART:20210113T080000Z
DTEND:20210113T093000Z
DTSTAMP:20220112T025945Z
URL:https://iabc.bc.ca/upcoming-events/senior-communicators-sig-what-does-
 good-leadership-look-like-during-a-pandemic/
SUMMARY:Senior Communicators SIG: What does good leadership look like durin
 g a pandemic?
DESCRIPTION:\n\n\nJoin IABC/BC’s upcoming Senior Communicators Special In
 terest Group (SIG) virtual session focused on leadership.\n&nbsp\;\n\n\n\n
 \n\n\nAbout this Event\n\n\n\nThe Senior Communicators SIG offers season
 ed professionals — those with 15+ years’ experience—an opportunity t
 o exchange ideas in a supportive\, informal environment.\n\nThe impact of 
 rapid change and uncertainty from the corona virus crisis poses extraordin
 ary challenges for leaders and continues to raise many questions. How to d
 rive strategic initiatives in the face of rapid change and ambiguity? How 
 to best support teams when anxiety levels are high and teams are working r
 emotely? How to support open communication and decisive action\, while gra
 ppling with a situation that also calls for pragmatism and caution?\n\nThi
 s conversation-style session will provide a chance for leaders to share su
 ccesses\, mistakes\, and strategies for how to better support our teams an
 d lead our organizations in these tumultuous times.\n\nThis session will b
 e facilitated by: Kristin Linklater\, SCMP\, Executive Director\, Marketin
 g and Communications\, Simon Fraser University\nEvent details\n\n 	Date: J
 anuary 13\, 2021\n 	Time: 8:00 AM - 9:30 AM Pacific Standard Time\n 	Forma
 t: A small group conversation-style session hosted virtually on Zoom.\n\nP
 lease note that the Zoom link will be emailed to you the day before the ev
 ent.\n\nDue to the intimate conversation-style format of these sessions\, 
 space is limited\, so sign up soon!\nRegistration\n\n 	Members: Free\n 	No
 n-Members: $10\n\nIf you have any questions\, please email sigs@iabc.bc.ca
 .\n\nSpecial Interest Groups (SIGs) are small\, informal gatherings curren
 tly held online via Zoom\, where like-minded communicators meet to connect
  and exchange knowledge around relevant\, emerging topics within the commu
 nications community. There is no charge for IABC/BC members\, and a nomina
 l fee for non-members.\n\n\n\n\n
END:VEVENT
END:VCALENDAR