BEGIN:VCALENDAR
VERSION:2.0
PRODID:-//wp-events-plugin.com//7.2.3.1//EN
BEGIN:VEVENT
UID:263@iabc.bc.ca
DTSTART:20210415T080000Z
DTEND:20210415T093000Z
DTSTAMP:20220112T025931Z
URL:https://iabc.bc.ca/upcoming-events/senior-communicators-sig-whats-on-t
 he-horizon/
SUMMARY:Senior Communicators SIG: What's on the horizon?
DESCRIPTION:\n\n\nJoin IABC/BC’s Senior Communicators SIG virtual session
 \, with a focus on preparing our communication teams for the future.\n\n\n
 \n\n\nAbout this Event\n\n\n\nJoin IABC/BC’s upcoming Senior Communicat
 ors Special Interest Group (SIG) virtual session\, this time with a focus
  on preparing our Communication teams for the future. The Senior Communica
 tors SIG offers seasoned professionals — those with 15+ years’ experie
 nce—an opportunity to exchange ideas in a supportive\, informal environm
 ent.\n\nToday’s communicators are more valued than ever\, and our commun
 ication teams need to reflect the changing needs of our multi-tiered audie
 nces. Technology\, leadership styles\, and increasing pressures to do more
  have accelerated change in the communications profession.\n\nIn this SIG 
 conversation\, we will explore how we\, as leaders\, can keep pace with th
 e skills needed on our teams\, discuss which skills are becoming less impo
 rtant\, and identify challenges we have in making our own teams more agile
 .\n\nThis session will be facilitated by: Linda Ong\, BA\, ABC\; Director
 \, Communications\, Office of the Chief Information Officer – UBC IT\; F
 ormer IABC/BC Vice President (2014)\n\nLinda is an award-winning senior co
 mmunicator\, with a fondness for employee engagement\, strategic communica
 tions\, and organizational development. Having previously served in variou
 s Board roles with IABC/BC\, she currently volunteers on the Communication
 s Cabinet of EDUCAUSE\, and recently completed adjudicating this year’s 
 CASE Awards. She can be found on Twitter and Clubhouse @lindaong.\nEvent D
 etails\n\n 	Date: April 15\, 2021\n 	Time: 8:00 AM - 9:30 AM Pacific Stand
 ard Time\n 	Format: A small group conversation-style session hosted virtua
 lly on Zoom.\n\nPlease note that the Zoom link will be emailed to you the 
 day before the event.\n\nDue to the intimate conversation-style format of 
 these sessions\, space is limited\, so sign up soon!\nRegistration\n\n 	Me
 mbers: Free\n 	Non-Members: $10\n\nIf you have any questions\, please emai
 l sigs (at) iabc.bc.ca.\n\nSpecial Interest Groups (SIGs) are small\, info
 rmal gatherings currently held online via Zoom\, where like-minded communi
 cators meet to connect and exchange knowledge around relevant\, emerging t
 opics within the communications community. There is no charge for IABC/BC 
 members\, and a nominal fee for non-members.\n\n\n\n\n
END:VEVENT
END:VCALENDAR