BEGIN:VCALENDAR
VERSION:2.0
PRODID:-//wp-events-plugin.com//7.2.3.1//EN
BEGIN:VEVENT
UID:381@iabc.bc.ca
DTSTART:20250424T173000Z
DTEND:20250424T183000Z
DTSTAMP:20250416T044113Z
URL:https://iabc.bc.ca/upcoming-events/special-interest-group-sig-session-
 on-strategic-inclusive-communications-in-2025/
SUMMARY:Special Interest Group (SIG) session on Strategic Inclusive Communi
 cations in 2025
DESCRIPTION:In a follow up to their foundational “Non-Performative and Au
 thentic JEDI Communications” session back in 2023\, AndHumanity is retur
 ning with a more nuanced and tactical session amidst these uncertain times
 . For many in B.C.\, it’s truly hard to believe we’re living in such a
  politically charged climate where JEDI is challenged in almost every aspe
 ct. \n\nAs the communications industry tries to sort its way through the p
 andemonium\, AndHumanity has found that the most recurring question being 
 asked of them from other communicators at this time is\, “Well\, what no
 w? What does this all mean for us?”\n\nIn this session\, AndHumanity wil
 l share their popular strategic framework on how to communicate effectivel
 y in these chaotic times by aligning brand and messaging with audience min
 dset. Additionally\, they will share what other brands are doing right now
  - whether it be halting JEDI comms work\, continuing it\, reframing it\, 
 and everything in between. \n\nJoin us in this virtual session to learn h
 ow to navigate these turbulent times as a communications professional.\n\n
 Date: Thursday\, April 24\n\nTime: 5:30 to 6:30 p.m.\n\nRegister on Eventb
 rite
ATTACH;FMTTYPE=image/jpeg:https://iabc.bc.ca/wp-content/uploads/2025/04/Em
 ail-Header-JEDI-2025-2.2.png
END:VEVENT
END:VCALENDAR