BEGIN:VCALENDAR
VERSION:2.0
PRODID:-//wp-events-plugin.com//7.2.3.1//EN
BEGIN:VEVENT
UID:108@iabc.bc.ca
DTSTART:20161108T173000Z
DTEND:20161108T200000Z
DTSTAMP:20210507T140510Z
URL:https://iabc.bc.ca/upcoming-events/speed-mentoring-for-new-communicato
 rs-personalized-tips-from-industry-leaders/
SUMMARY:Speed Mentoring for New Communicators: Personalized Tips from Indus
 try Leaders
DESCRIPTION:Whether you’re a student wondering how to break into the comm
 unications or PR industry or a professional thinking about switching caree
 rs\, this event will give you the career boost you need.
END:VEVENT
END:VCALENDAR