BEGIN:VCALENDAR
VERSION:2.0
PRODID:-//wp-events-plugin.com//7.2.3.1//EN
BEGIN:VEVENT
UID:205@iabc.bc.ca
DTSTART;TZID=America/Vancouver:20190523T173000
DTEND;TZID=America/Vancouver:20190523T204000
DTSTAMP:20210507T140947Z
URL:https://iabc.bc.ca/upcoming-events/speed-mentoring-series-interpersona
 l-skills/
SUMMARY:* CANCELLED * Speed Mentoring Series: Interpersonal Skills
DESCRIPTION:This event has been cancelled.
END:VEVENT
BEGIN:VTIMEZONE
TZID:America/Vancouver
X-LIC-LOCATION:America/Vancouver
BEGIN:DAYLIGHT
DTSTART:20190310T030000
TZOFFSETFROM:-0800
TZOFFSETTO:-0700
TZNAME:PDT
END:DAYLIGHT
END:VTIMEZONE
END:VCALENDAR