BEGIN:VCALENDAR
VERSION:2.0
PRODID:-//wp-events-plugin.com//7.2.3.1//EN
BEGIN:VEVENT
UID:385@iabc.bc.ca
DTSTART:20250510T143000Z
DTEND:20250510T153000Z
DTSTAMP:20250502T040417Z
URL:https://iabc.bc.ca/upcoming-events/spring-spin-off-y2k-pop-ride-with-i
 abc-bc/
SUMMARY:Spring Spin-Off: Y2K Pop Ride with IABC/BC
DESCRIPTION:Spring is still in the air\, and we're turning up the heat with
  a high-energy ride that will have you feeling refreshed\, recharged\, and
  ready to bloom! &#x1f338\;&#x1f33c\;\n\nGet ready to pedal to the ultimat
 e battle of the decades\, where 90s icons and 2000s chart-toppers go head-
 to-head. Will you vibe with the Spice Girls and Britney\, or are you more 
 Team Rihanna and Lady Gaga? No matter your era\, this ride is all about go
 od vibes\, great beats\, and a supportive community.\n\nThe Spring Spin-O
 ff: Y2K Pop Ride with IABC/BC will be led by the incredible Carson Kelle
 r\, coach at Spin Society and Executive Administrator at IABC/BC.\n\nAll l
 evels are welcome! Whether you're a seasoned spinner or hopping on the bik
 e for the first time\, we’ll help you find your rhythm\, break a sweat a
 nd have a blast!\n\n&#x1f5d3\; Date: Saturday\, May 10\, 2025\n&#x23f0\; T
 ime: 2:30 to 3:30 p.m.\n&#x1f4cd\; Location: Mount Pleasant Spin Society\,
  229 Kingsway Vancouver\, BC\n&#x1f4b0\; Cost: $30 members | $35 non-membe
 rs
ATTACH;FMTTYPE=image/jpeg:https://iabc.bc.ca/wp-content/uploads/2025/05/Ev
 entbrite-Spring-Spin-Off-2-e1746129706548.png
END:VEVENT
END:VCALENDAR