BEGIN:VCALENDAR
VERSION:2.0
PRODID:-//wp-events-plugin.com//7.2.3.1//EN
BEGIN:VEVENT
UID:396@iabc.bc.ca
DTSTART:20260329T143000Z
DTEND:20260329T180000Z
DTSTAMP:20260304T010342Z
URL:https://iabc.bc.ca/upcoming-events/the-feedback-loop-a-spin-class-and-
 social/
SUMMARY:The feedback loop: A spin class and social
DESCRIPTION:Spin SocietyVancouver\, BC\nSunday\, Mar 29 from 2:30 pm to 6 p
 m\n\n\n\n\nAn energizing spin experience powered by culturally iconic song
 s that didn’t just chart — they shifted narratives.\n\n\nThe Feedback 
 Loop: From Signal to Spin - Songs That Shaped Culture\n\nIn communications
 \, a signal starts the message. Through amplification\, repetition\, and c
 ollective engagement\, it becomes a feedback loop.\n\nOn the bike? Repetit
 ion builds cadence. Cadence builds momentum. Momentum builds impact.\n\nTh
 e Feedback Loop: From Signal to Spin is a 50-minute high-energy spin exper
 ience (plus cool-down) powered by songs that didn’t just top charts - th
 ey shaped culture\, sparked movements\, defined eras\, and reverberated th
 rough generations. We'll be at the Spin Society Mount Pleasant studio.\n\n
 What to expect:\n\n 	50 minutes of rhythm-driven riding + cool-down\n 	Cur
 ated playlist of culturally impactful songs\n 	High-energy instruction by
  Carson Keller\n 	Post-ride networking + connection\n\nWhat you need to k
 now:\n\n 	After buying a ticket\, remember to make your Spin Society accou
 nt\, if you don't already have one.\n 	Face towels and shoes are provided\
 n 	The studio is equipped with showers and changerooms.\n\nBecause whether
  in strategy or spin - what resonates\, reverberates. Spots are limited. L
 et’s amplify what moves us.\n\nLearn more about Spin Society's FAQ and 
 policies. Questions? Reach out to executive@iabc.bc.ca\n\nTicket sales end
  March 26 at 11:30 PM\n\nSocial at Steamworks Mount Pleasant @ 4:00 PM\n\n
 Don't feel like joining us for the class? A few of us will head over to S
 teamworks Mount Pleasant at 4:00 PM. Guests will be responsible for their
  own bills. Reservation is under Maycko Macapugas.\n\n\n\n\n\n&nbsp\;\n\n
ATTACH;FMTTYPE=image/jpeg:https://iabc.bc.ca/wp-content/uploads/2026/03/th
 e-feedback-loop-scaled.png
END:VEVENT
END:VCALENDAR