BEGIN:VCALENDAR
VERSION:2.0
PRODID:-//wp-events-plugin.com//7.2.3.1//EN
BEGIN:VEVENT
UID:393@iabc.bc.ca
DTSTART:20251212T173000Z
DTEND:20251212T200000Z
DTSTAMP:20260206T005300Z
URL:https://iabc.bc.ca/upcoming-events/the-future-of-business-communicatio
 ns-career-paths-in-an-ai-world/
SUMMARY:The Future of Business Communications: Career Paths in an AI World
DESCRIPTION:\n&#x1f39f\;&#xfe0f\; Free registration: https://ow.ly/SqRI50Xz
 Pfz\nIn collaboration with University Canada West\, IABC/BC's Students and
  New Communicators present this career and networking event.\n\n\n\n\n\n\n
 \nThe Future of Business Communications: Career Paths in an AI World\nJoin
  us on Thursday\, December 12 from 5:30 - 8:00 p.m. at University Canada
  West's Vancouver House campus (East lobby) for an inspiring evening desig
 ned for the next generation of business communicators navigating careers 
 in an AI-driven world.\nOur speakers will share:\n\n 	Insights from their 
 current career path\n 	Real project examples\n 	Their thoughts on how AI i
 s changing the work communicators do every day.\n\nMeet the speakers:\n&nb
 sp\;\n\nMarzia Sager: President\, IABC/BC | Communications and Advancement
  Lead at PowerPlay Young Entrepreneurs (BC Business’s Top 30 Under 30)|S
 ocial Impact\n\nLogan Findlay: Director\, Talk Shop Media | Agency &amp\;
  PR\n\nKelsea Arbour: Communications Insights Advisor\, FortisBC | Corpor
 ate Communications\n\n&nbsp\;\n\nModerated by Wahiba Chair – Assistant
  Professor\, University Canada West | Director\, Students &amp\; New Commu
 nicators\, IABC/BC\n\n&nbsp\;\n\nThe evening includes Q&amp\;A with our pa
 nelists (including questions you will be able to ask)\, followed by networ
 king with fellow students\, new communicators\, and industry professionals
 .\n\n\nEvent Details:\n&#x1f39f\;&#xfe0f\; Free registration: https://ow.l
 y/SqRI50XzPfz\n&nbsp\;\n\n 	Date: December 12\, 5:30 PM - 8 PM\n 	Location
 : University Canada West: 1461 Granville Street Vancouver\, BC V6Z 0E5\n 	
 In person\n 	Paid parking\n 	Doors at 5:30 PM\n\n\nThe event is free but s
 pace is limited. RSVP today!\nPlease make sure to arrive early as seating 
 is limited. Got questions? Please contact students(at)iabc.bc.ca\n\n&nbsp\
 ;\n\n\n\n\n\n
ATTACH;FMTTYPE=image/jpeg:https://iabc.bc.ca/wp-content/uploads/2025/12/ev
 ent-IABC-December-12.jpeg
END:VEVENT
END:VCALENDAR