BEGIN:VCALENDAR
VERSION:2.0
PRODID:-//wp-events-plugin.com//7.2.3.1//EN
BEGIN:VEVENT
UID:233@iabc.bc.ca
DTSTART:20201015T100000Z
DTEND:20201015T110000Z
DTSTAMP:20220112T025956Z
URL:https://iabc.bc.ca/upcoming-events/the-modern-intranet-101-webinar/
SUMMARY:The Modern Intranet 101 Webinar
DESCRIPTION:Presented by Jamie Yan and Jeri Fang\n\nOrganizations are reali
 zing that Zoom and Slack aren’t enough to connect an all-remote workforc
 e to the broader company.\n\nIt’s more important than ever with an incre
 asingly distributed workforce that struggles to connect\, align\, and comm
 unicate. Meet Simpplr\, the easiest way to create a connected and engaged 
 workplace. But what does a modern intranet entail?\n\nSign up to learn why
  companies like AAA\, Workday\, and Eurostar use Simpplr to:\n\n 	Provide 
 employees a single source for important company communications\n 	Drive em
 ployee engagement and adoption with an easy and intuitive user experience\
 n 	Point-and-click configuration can empower your business users to admini
 ster your intranet with no IT support\n\nPresenter / Jamie Yan leads prod
 uct marketing at Simpplr and is just as excited about Simpplr’s mission 
 as the day she joined. Simpplr’s mission is to improve internal communic
 ations to help employees find work meaningful and fulfilling. For the past
  decade\, Yan has helped companies improve their employee and customer exp
 eriences by getting the most out of enterprise technology.\n\n&nbsp\;\n\nP
 resenter / Jeri Fang is a U.C. Davis alumni who started off in the hospit
 ality industry and then made her way to computer software. Along with her 
 passion for exceptional end user experiences and customer service\, she no
 w enjoys helping organizations keep everyone on the same page and improve 
 employee engagement.\n\n&nbsp\;\n\nThis webinar is sponsored by:\n\n\n\nDa
 te: 15 October 2020\nTime: 12–1 p.m. CST / 10–11 a.m. PST\nOpen to al
 l communications professionals
END:VEVENT
END:VCALENDAR