BEGIN:VCALENDAR
VERSION:2.0
PRODID:-//wp-events-plugin.com//7.2.3.1//EN
BEGIN:VEVENT
UID:378@iabc.bc.ca
DTSTART:20250205T000000Z
DTEND:20250205T000000Z
DTSTAMP:20250206T010527Z
URL:https://iabc.bc.ca/upcoming-events/the-tiktok-ban-what-does-it-mean-an
 d-where-do-we-go-from-here/
SUMMARY:Cancelled: The TikTok Ban: Where do we go from here?
DESCRIPTION:This event has been cancelled.
ATTACH;FMTTYPE=image/jpeg:https://iabc.bc.ca/wp-content/uploads/2025/01/Ti
 kTok-Ban-2025Feb5-2160x1080-1-e1738086902683.png
END:VEVENT
END:VCALENDAR