BEGIN:VCALENDAR
VERSION:2.0
PRODID:-//wp-events-plugin.com//7.2.3.1//EN
BEGIN:VEVENT
UID:241@iabc.bc.ca
DTSTART:20201126T173000Z
DTEND:20201126T183000Z
DTSTAMP:20220112T025945Z
URL:https://iabc.bc.ca/upcoming-events/think-like-an-agency/
SUMMARY:Think Like an Agency
DESCRIPTION:\n\n\nLearn the skills and approach communications professional
 s need today to stay relevant and competitive in a market with shrinking r
 esources.\n\n\n\n\n\nAbout this event\n\n\n\nJoin the conversation! Think 
 Like an Agency experts will discuss the skills and approach that will set 
 communications professionals apart in today’s competitive world.\n\nMany
  communication professionals have to accomplish much more with fewer resou
 rces these days\, whether working in house or as a contractor.\n\nOur pane
 l of communication and creative agency leaders will lead a conversation fo
 r more senior communicators who are taking on more communication functions
  at work due to cutbacks\, who want to continue to demonstrate their value
 \, to individuals who are now looking to do contract work\, and to new com
 municators who need to consider the skills they may need to grow to become
  and stay competitive.\nEvent deails\n\n 	Date: November 26\, 2020\n 	Time
 : 5:30 pm - 6:30 pm Pacific Standard Time\n 	Format: A conversation-style 
 session hosted virtually.\n\nRegistration\n\n 	Members: Early bird $5/regu
 lar $10\n 	Non-Members: Early bird $10/regular $15\n 	Student Members: Ear
 ly bird $3/ regular $7\n 	Student Non-Members: Early bird $7/ regular $10\
 n\nRegister online today!\n\nEarly Bird pricing ends at 11:30 p.m. on Wedn
 esday\, November 18\, 2020.\n\nAll refund requests must be made 48 hours p
 rior to the event date.\n\nA Zoom link to access the professional developm
 ent session will be emailed to you on Wednesday\, November 25.\n\nIf you h
 ave any questions\, please reach out to events@iabc.bc.ca.\n\n\n\n\n
END:VEVENT
END:VCALENDAR