BEGIN:VCALENDAR
VERSION:2.0
PRODID:-//wp-events-plugin.com//7.2.3.1//EN
BEGIN:VEVENT
UID:105@iabc.bc.ca
DTSTART:20161005T110000Z
DTEND:20161005T120000Z
DTSTAMP:20160907T080530Z
URL:https://iabc.bc.ca/upcoming-events/unleash-the-power-of-storytelling-b
 uild-trust-win-hearts-and-change-minds/
SUMMARY:Unleash the power of storytelling: Build trust\, win hearts and cha
 nge minds
DESCRIPTION:Unlocks the secrets of storytelling to create more innovative p
 rogramming\, build trust with target audiences\, win business and influenc
 e people to act.
END:VEVENT
END:VCALENDAR