BEGIN:VCALENDAR
VERSION:2.0
PRODID:-//wp-events-plugin.com//7.2.3.1//EN
BEGIN:VEVENT
UID:256@iabc.bc.ca
DTSTART:20210407T090000Z
DTEND:20210407T100000Z
DTSTAMP:20220112T025944Z
URL:https://iabc.bc.ca/upcoming-events/unleash-the-power-of-storytelling/
SUMMARY:Unleash The Power of Storytelling: Win Hearts\, Change Minds\, Get 
 Results from IABC Philadelphia
DESCRIPTION:\n\nThere’s no question that storytelling is one of the most 
 powerful communication tools at our disposal. The right story can help you
  break down walls with an audience\, build trust and influence them to act
  in your favor.\n\nThat can mean winning over customers\, aligning and mot
 ivating a workforce\, swaying a skeptical public and more.\n\nIn this enga
 ging\, information-packed session\, Rob Biesenbach shares his latest story
 telling insights\, diagnoses the biggest mistakes corporate storytellers m
 ake\, and prescribes simple remedies that will allow your stories to flour
 ish and not flail.\n\nAmong the takeaways:\n\n 	Deeper insight into three 
 experiential factors that power every great story\n 	A proven method for n
 ailing a story’s ending and bringing the audience full circle\n 	How to 
 find and nurture the small-but-critical moments that bring a story to life
 \n 	Overcoming TEDsteria and other obstacles that sabotage our stories\n 	
 Ways to bring out the best stories in others\n\nYou’ll come away with pr
 actical strategies and tactics you can use right away to elevate your stor
 ies from good to great and become an even more powerful\, persuasive commu
 nicator.\nAbout the Speaker\nRob Biesenbach\nRob Biesenbach works with lea
 ders who want to be more persuasive and authoritative in everything they d
 o. That means helping them break free from Death by PowerPoint\, tell thei
 r story\, and communicate like humans should.\n\nRob is an award-winning c
 orporate communication consultant\, an in-demand keynote speaker and works
 hop leader\, a bestselling author\, and a Second City–trained actor. He 
 combines insights from the worlds of business and performance to deliver p
 rograms that are as entertaining as they are enlightening. His clients inc
 lude AARP\, Allstate\, Coca-Cola\, Deloitte\, and Feeding America\, among 
 many others.\n\nRob is the author of the Amazon bestseller Unleash the Po
 wer of Storytelling: Win Hearts\, Change Minds\, Get Results. He lives jus
 t outside Chicago in Evanston\, Illinois and travels the world (in-person 
 and online) to meet his clients’ needs.\n\n\nEvent Details\n\n 	 April 
 07\, 2021 at 12pm – 1pm EST (9-10 a.m. PST)\n 	 Online\n 	Donna Cusano\
 nprofessionaldevelopment@iabcphiladelphia.org\n908-239-8426\n
END:VEVENT
END:VCALENDAR