BEGIN:VCALENDAR
VERSION:2.0
PRODID:-//wp-events-plugin.com//7.2.3.1//EN
BEGIN:VEVENT
UID:112@iabc.bc.ca
DTSTART:20161207T180000Z
DTEND:20161207T203000Z
DTSTAMP:20210507T140531Z
URL:https://iabc.bc.ca/upcoming-events/very-merry-holiday-mingler/
SUMMARY:Very Merry Holiday Mingler
DESCRIPTION:The holidays are a busy season so take some time to relax and k
 ick back with your communications colleagues for some laughs\, inspiration
 \, and make new connections. This year our event will be held at Bistro V
 erde inside Nordstrom Pacific Centre. The restaurant boasts an amazing vie
 w of the Art Gallery and Robson Square\; plus it’s the perfect location 
 for some holiday shopping!Join us and celebrate your professional achievem
 ents this year\, meet new people and reconnect with familiar faces from ou
 r vibrant community of professional business communicators.Light appetizer
 s will be served. You will be provided with one complimentary drink ticket
 .We can’t wait to celebrate the holiday season with you all and perhaps 
 you will enjoy some shopping time before or after our event too!\n\n&nbsp\
 ;
END:VEVENT
END:VCALENDAR