BEGIN:VCALENDAR
VERSION:2.0
PRODID:-//wp-events-plugin.com//7.2.3.1//EN
BEGIN:VEVENT
UID:120@iabc.bc.ca
DTSTART:20170112T110000Z
DTEND:20170112T120000Z
DTSTAMP:20170110T103351Z
URL:https://iabc.bc.ca/upcoming-events/webinar-how-to-create-powerful-and-
 positive-changes-in-your-organization/
SUMMARY:Webinar - How to Create Powerful and Positive Changes in Your Organ
 ization
DESCRIPTION:Dysfunction within large organizations is so prevalent that mos
 t people either accept it as an inevitable fact of corporate life or assum
 e someone else will deal with it.\n\nBut must it be this way? Steve Goldst
 ein answers this question with a resounding “no!”\n\nIn this webinar\,
  Goldstein explains the nature of dysfunction present in most companies an
 d other organizations\, why it occurs\, and most importantly\, what leader
 s\, at all levels\, can do to tackle these issues and improve performance.
 \n\nWhat you'll learn:\n\n	Proven techniques for solving problems and impr
 oving performance.\n	How to understand and utilise the Five Principles of 
 Engagement.\n	How top leaders can improve the way they interact with their
  teams\, employees\, and customers.\n\n[caption id="" align="alignleft" wi
 dth="177"] Presenter: Steve Goldstein[/caption]\n\nSteve Goldstein is the 
 chairman of U.S. Auto Sales\, and senior adviser to both Alvarez and Marsa
 l and Milestone Partners. He has over 35 years of experience working as an
  operating executive at both global Fortune 500 companies (including as Ch
 airman and CEO of American Express Bank)\, has served as director of numer
 ous companies\, and advises large and mid-size companies.\nIf you need hel
 p creating positive changes in your organization\, you don’t want to mis
 s this session!
END:VEVENT
END:VCALENDAR