BEGIN:VCALENDAR
VERSION:2.0
PRODID:-//wp-events-plugin.com//7.2.3.1//EN
BEGIN:VEVENT
UID:110@iabc.bc.ca
DTSTART:20161101T110000Z
DTEND:20161101T120000Z
DTSTAMP:20161030T054851Z
URL:https://iabc.bc.ca/upcoming-events/webinar-learn-how-to-create-an-awar
 d-winning-gold-quill-entry/
SUMMARY:Webinar – Learn how to create an award-winning Gold Quill entry
DESCRIPTION:Before you begin crafting your Gold Quill Award submission\, pl
 an to attend this free one-hour webinar on how to create a winning entry. 
END:VEVENT
END:VCALENDAR