BEGIN:VCALENDAR
VERSION:2.0
PRODID:-//wp-events-plugin.com//7.2.3.1//EN
BEGIN:VEVENT
UID:193@iabc.bc.ca
DTSTART;TZID=America/Vancouver:20190131T120000
DTEND;TZID=America/Vancouver:20190131T130000
DTSTAMP:20190117T121620Z
URL:https://iabc.bc.ca/upcoming-events/webinar-series-storytelling-in-the-
 digital-age/
SUMMARY:Webinar series: Storytelling in the digital age
DESCRIPTION:Digital channels are constantly changing\, and always busy. Whe
 n there is always a new added feature on a social channel\, or the latest 
 trend to follow it's really easy to forget the basics. No matter what is h
 appening in this digital age\, we have to stand out and ensure that our co
 ntent is grabbing and engaging our target audiences. \n\nDan Gold is an in
 ternational storyteller\, working with global\, national and provincial or
 ganizations on their traditional and digital strategies. In the first in a
  series of locally hosted webinars\, he will be discussing the importance 
 of traditional storytelling in the digital age. \n\nThis webinar is best 
 suited to mid – or more to the point older communicators who have not en
 gaged in the digital world to any great extent. However\, communicators at
  all stages are welcome! \n\n*This event does apply for CMP/SCMP maintaine
 nce: Chapter-hosted event under 4 hours (5 points)\nRegister Now\n&nbsp\;\
 n\nRegistration closes Tuesday\, January 29\, 2019\n\n&nbsp\;\n\nRegular p
 ricing\n\nMembers: Free\nStudent members: Free \n\n&nbsp\;\nAbout Dan Gold
 \nFrom broadcasting in the 1990s\, to working for the marcomms wing of The
  Economist Group through the 2010s\, Dan focuses on meaningful engagement.
 \nWhile in London he collaborated with leading storytellers\, delivering c
 ampaigns globally that hit millions of people weekly on TV\, radio\, and o
 nline. After more than 4\,400 productions and content on every major inter
 national news and entertainment network\, Dan made the move to North Ameri
 ca to continue his storytelling journey.\nHaving contributed to projects t
 hat won multiple SABRE awards and PR Week recognition\, Dan is proud to br
 ing those skills to IABC as Chair of The Panel of Producers.\n\nYou can co
 nnect with Dan on Twitter @dangoldmedia.\n\n&nbsp\;\n\nNeed help registeri
 ng? Call the IABC/BC registration line at 604-878-1320 or email our admin 
 team at: iabcbc@vancouveroffice.com
END:VEVENT
BEGIN:VTIMEZONE
TZID:America/Vancouver
X-LIC-LOCATION:America/Vancouver
BEGIN:STANDARD
DTSTART:20181104T010000
TZOFFSETFROM:-0700
TZOFFSETTO:-0800
TZNAME:PST
END:STANDARD
END:VTIMEZONE
END:VCALENDAR