BEGIN:VCALENDAR
VERSION:2.0
PRODID:-//wp-events-plugin.com//7.2.3.1//EN
BEGIN:VEVENT
UID:391@iabc.bc.ca
DTSTART:20251029T173000Z
DTEND:20251029T183000Z
DTSTAMP:20260127T084621Z
URL:https://iabc.bc.ca/upcoming-events/were-hosting-a-virtual-speed-mentor
 ing-event-and-youre-invited/
SUMMARY:We’re hosting a virtual Speed Mentoring event — and you’re in
 vited!
DESCRIPTION:This virtual\, one-hour event is a great way for prospective me
 ntors and mentees to:\n\n 	Connect with others through short\, guided brea
 kout conversations\n 	Learn more about how the mentorship program works\n 
 	Share your interests to help us make better matches \n 	Ask questions in
  a casual\, low-pressure environment\n\n\nDetails:\n\nWednesday\, October 
 29\n\n5:30–6:30 PM PST\n\nOnline via Zoom (open to participants from all
  regions)\n\nWhether you're planning to jin the program or just exploring\
 , this is a great way to get started. \n\nRegister now: https://www.event
 brite.ca/e/speed-mentoring-kickoff-to-the-202526-mentorship-season-tickets
 -1778792057929?aff=oddtdtcreator
ATTACH;FMTTYPE=image/jpeg:https://iabc.bc.ca/wp-content/uploads/2025/10/Sp
 eed-mentoring-image-e1760472398536.png
END:VEVENT
END:VCALENDAR