BEGIN:VCALENDAR
VERSION:2.0
PRODID:-//wp-events-plugin.com//7.2.3.1//EN
BEGIN:VEVENT
UID:106@iabc.bc.ca
DTSTART:20161011T110000Z
DTEND:20161011T120000Z
DTSTAMP:20160907T081958Z
URL:https://iabc.bc.ca/upcoming-events/when-worlds-collide-tap-the-power-o
 f-your-internal-audience-to-tell-your-best-stories-to-the-outside-world/
SUMMARY:When worlds collide: Tap the power of your internal audience to tel
 l your best stories to the outside world
DESCRIPTION:Learn how smart communicators use their employees to tell their
  organization’s best stories to the community\, customers\, potential hi
 res\, and even the media.
END:VEVENT
END:VCALENDAR