BEGIN:VCALENDAR
VERSION:2.0
PRODID:-//wp-events-plugin.com//7.2.3.1//EN
BEGIN:VEVENT
UID:390@iabc.bc.ca
DTSTART:20251105T173000Z
DTEND:20251105T183000Z
DTSTAMP:20251007T005832Z
URL:https://iabc.bc.ca/upcoming-events/your-future-in-focus-finding-mentor
 ship-in-marketing-and-communications/
SUMMARY:Your Future in Focus: Finding Mentorship in Marketing and Communica
 tions
DESCRIPTION:Looking to take the next step in your career but not sure how t
 o find the right guidance? Join us for a one-hour conversation with two se
 asoned marketing and communications professionals and mentors as they shar
 e their insights on building authentic connections\, finding mentors\, and
  making the most of those relationships.\n\nWhat You’ll Learn\n\n 	How t
 o network with confidence and professionalism in today’s fast-changing i
 ndustry.\n 	Where to look for a mentor who aligns with your career goals.\
 n 	The best ways to approach a potential mentor and start the conversation
 .\n 	How to maximize the value of a mentorship — for both you and your m
 entor.\n\nWhy Attend?\n\n\n Whether you’re a student\, emerging professi
 onal\, or considering a career pivot\, mentorship can be the key to unlock
 ing new opportunities. This session will give you practical strategies\, i
 nsider advice\, and real-world examples from experts who’ve been on both
  sides of the mentorship equation.\n\nEventbrite link: \n\nhttps://www.ev
 entbrite.ca/e/your-future-in-focus-finding-mentorship-in-marketing-and-com
 munications-tickets-1763024586999?aff=oddtdtcreator 
ATTACH;FMTTYPE=image/jpeg:https://iabc.bc.ca/wp-content/uploads/2025/10/Ev
 entbrite-SIG-Main-1-e1759769886666.png
END:VEVENT
END:VCALENDAR